BEGIN:VCALENDAR
VERSION:2.0
PRODID:-//Houston Dance Nights - ECPv6.5.1.1//NONSGML v1.0//EN
CALSCALE:GREGORIAN
METHOD:PUBLISH
X-WR-CALNAME:Houston Dance Nights
X-ORIGINAL-URL:https://houstondancenights.com
X-WR-CALDESC:Events for Houston Dance Nights
REFRESH-INTERVAL;VALUE=DURATION:PT1H
X-Robots-Tag:noindex
X-PUBLISHED-TTL:PT1H
BEGIN:VTIMEZONE
TZID:America/Chicago
BEGIN:DAYLIGHT
TZOFFSETFROM:-0600
TZOFFSETTO:-0500
TZNAME:CDT
DTSTART:20210314T080000
END:DAYLIGHT
BEGIN:STANDARD
TZOFFSETFROM:-0500
TZOFFSETTO:-0600
TZNAME:CST
DTSTART:20211107T070000
END:STANDARD
END:VTIMEZONE
BEGIN:VEVENT
DTSTART;TZID=America/Chicago:20210210T190000
DTEND;TZID=America/Chicago:20210210T200000
DTSTAMP:20260422T000812
CREATED:20210208T045825Z
LAST-MODIFIED:20210416T162338Z
UID:9730-1612983600-1612987200@houstondancenights.com
SUMMARY:Buck Wild Dance Lessons
DESCRIPTION:*No Partner Needed*
URL:https://houstondancenights.com/event/buck-wild-dance-lessons/
LOCATION:Buck Wild Clearlake\, 1025 W. Nasa Pkwy\, Webster\, TX\, 77598\, United States
CATEGORIES:Free Dance Lessons
ATTACH;FMTTYPE=image/png:https://houstondancenights.com/wp-content/uploads/2021/04/pat.png
END:VEVENT
BEGIN:VEVENT
DTSTART;TZID=America/Chicago:20210210T200000
DTEND;TZID=America/Chicago:20210210T210000
DTSTAMP:20260422T000812
CREATED:20210208T043003Z
LAST-MODIFIED:20210210T172435Z
UID:9701-1612987200-1612990800@houstondancenights.com
SUMMARY:Rowdys Spring Dance Lessons
DESCRIPTION:
URL:https://houstondancenights.com/event/rowdys-spring-dance-lessons/
LOCATION:Rowdy’s North\, 19959 Holzwarth Rd\, Spring\, TX\, 77388\, United States
CATEGORIES:Free Dance Lessons
ATTACH;FMTTYPE=image/jpeg:https://houstondancenights.com/wp-content/uploads/2021/02/JSegovia.jpg
END:VEVENT
END:VCALENDAR